BEGIN:VCALENDAR
VERSION:2.0
PRODID:-//LogisticaIT - ECPv6.15.13//NONSGML v1.0//EN
CALSCALE:GREGORIAN
METHOD:PUBLISH
X-WR-CALNAME:LogisticaIT
X-ORIGINAL-URL:https://logisticait.com
X-WR-CALDESC:Eventi per LogisticaIT
REFRESH-INTERVAL;VALUE=DURATION:PT1H
X-Robots-Tag:noindex
X-PUBLISHED-TTL:PT1H
BEGIN:VTIMEZONE
TZID:UTC
BEGIN:STANDARD
TZOFFSETFROM:+0000
TZOFFSETTO:+0000
TZNAME:UTC
DTSTART:20250101T000000
END:STANDARD
END:VTIMEZONE
BEGIN:VTIMEZONE
TZID:Europe/Helsinki
BEGIN:DAYLIGHT
TZOFFSETFROM:+0200
TZOFFSETTO:+0300
TZNAME:EEST
DTSTART:20250330T010000
END:DAYLIGHT
BEGIN:STANDARD
TZOFFSETFROM:+0300
TZOFFSETTO:+0200
TZNAME:EET
DTSTART:20251026T010000
END:STANDARD
BEGIN:DAYLIGHT
TZOFFSETFROM:+0200
TZOFFSETTO:+0300
TZNAME:EEST
DTSTART:20260329T010000
END:DAYLIGHT
BEGIN:STANDARD
TZOFFSETFROM:+0300
TZOFFSETTO:+0200
TZNAME:EET
DTSTART:20261025T010000
END:STANDARD
BEGIN:DAYLIGHT
TZOFFSETFROM:+0200
TZOFFSETTO:+0300
TZNAME:EEST
DTSTART:20270328T010000
END:DAYLIGHT
BEGIN:STANDARD
TZOFFSETFROM:+0300
TZOFFSETTO:+0200
TZNAME:EET
DTSTART:20271031T010000
END:STANDARD
END:VTIMEZONE
BEGIN:VEVENT
DTSTART;VALUE=DATE:20260506
DTEND;VALUE=DATE:20260510
DTSTAMP:20260426T074517
CREATED:20230509T101226Z
LAST-MODIFIED:20230509T101226Z
UID:2746-1778025600-1778371199@logisticait.com
SUMMARY:SaMoTer - International Construction Equipment fair
DESCRIPTION:Salone dedicato al mondo delle macchine per costruzioni
URL:https://logisticait.com/evento/samoter-international-construction-equipment-fair/
LOCATION:Verona Fiere\, Viale del Lavoro\, 8\, Verona\, VR\, 37135\, Italia
CATEGORIES:Fiere
ATTACH;FMTTYPE=image/png:https://logisticait.com/wp-content/uploads/2023/05/samoter_verona.png
END:VEVENT
BEGIN:VEVENT
DTSTART;VALUE=DATE:20260506
DTEND;VALUE=DATE:20260510
DTSTAMP:20260426T074517
CREATED:20240816T125036Z
LAST-MODIFIED:20240816T125210Z
UID:37317-1778025600-1778371199@logisticait.com
SUMMARY:SamoTer
DESCRIPTION:SaMoTer è l’unica manifestazione in Italia ad abbracciare tutti i settori delle macchine per costruzioni. \nIl salone è inserito nel ciclo delle fiere internazionali partner del CECE\, la Federazione europea che raggruppa le associazioni dei costruttori di macchine movimento terra e per costruzioni. \nI focus della 32esima edizione sono: \n•Business \n•innovazione \n•internazionalità \n•formazione \nPer l’edizione 2026 sono confermati: \nSAMOTER LAB \nSamoter Lab si conferma un palcoscenico per tutte le aziende che desiderano condividere contenuti e confrontarsi sulle tematiche più attuali legate al settore: innovazione\, sostenibilità ambientale ed economica\, automazione\, digitalizzazione\, sicurezza\, efficientamento\, decarbonizzazione \nCANTIERE DIGITALE \nNel Cantiere Digitale verranno evidenziati i vantaggi dell’innovazione tecnologica legata alla connettività e all’utilizzo dei dati in termini di efficienza\, grazie all’ottimizzazione dei cicli di lavoro e alla riduzione dei consumi\, di produttività\, attraverso i sistemi di monitoraggio in tempo reale\, e di sicurezza\, con il controllo da remoto per interventi in ambienti pericolosi e il rilevamento predittivo dei guasti
URL:https://logisticait.com/evento/samoter/
LOCATION:Verona Fiere\, Viale del Lavoro\, 8\, Verona\, VR\, 37135\, Italia
CATEGORIES:Fiere
ATTACH;FMTTYPE=image/png:https://logisticait.com/wp-content/uploads/2023/05/samoter_verona.png
END:VEVENT
END:VCALENDAR